Package: epivizrServer Version: 1.38.0 Command: rm -rf epivizrServer.buildbin-libdir && mkdir epivizrServer.buildbin-libdir && /Users/biocbuild/BBS/utils/build-universal.sh epivizrServer_1.38.0.tar.gz /Library/Frameworks/R.framework/Resources/bin/R epivizrServer.buildbin-libdir StartedAt: 2025-11-10 23:19:31 -0500 (Mon, 10 Nov 2025) EndedAt: 2025-11-10 23:19:33 -0500 (Mon, 10 Nov 2025) EllapsedTime: 2.0 seconds RetCode: 0 Status: OK PackageFile: epivizrServer_1.38.0.tgz PackageFileSize: 458.6 KiB