Package: epivizrData Version: 1.38.0 Command: /home/biocbuild/bbs-3.22-bioc/R/bin/R CMD build --keep-empty-dirs --no-resave-data --md5 epivizrData StartedAt: 2025-11-11 17:38:06 -0500 (Tue, 11 Nov 2025) EndedAt: 2025-11-11 17:39:04 -0500 (Tue, 11 Nov 2025) EllapsedTime: 58.0 seconds RetCode: 0 Status: OK PackageFile: epivizrData_1.38.0.tar.gz PackageFileSize: 245.2 KiB