Package: epivizrData Version: 1.36.0 Command: /home/biocbuild/R/R/bin/R CMD INSTALL epivizrData StartedAt: 2025-10-13 20:57:52 -0000 (Mon, 13 Oct 2025) EndedAt: 2025-10-13 20:58:54 -0000 (Mon, 13 Oct 2025) EllapsedTime: 62.0 seconds RetCode: 0 Status: OK