Package: epivizrData Version: 1.36.0 Command: /home/biocbuild/R/R/bin/R CMD build --keep-empty-dirs --no-resave-data epivizrData StartedAt: 2025-10-14 00:43:19 -0000 (Tue, 14 Oct 2025) EndedAt: 2025-10-14 00:44:40 -0000 (Tue, 14 Oct 2025) EllapsedTime: 81.0 seconds RetCode: 0 Status: OK PackageFile: epivizrData_1.36.0.tar.gz PackageFileSize: 269.9 KiB