Package: epivizrChart Version: 1.32.0 Command: /home/biocbuild/R/R/bin/R CMD INSTALL epivizrChart StartedAt: 2025-11-13 21:51:40 -0000 (Thu, 13 Nov 2025) EndedAt: 2025-11-13 21:52:37 -0000 (Thu, 13 Nov 2025) EllapsedTime: 56.8 seconds RetCode: 0 Status: OK