Package: epivizrChart Version: 1.32.0 Command: /home/biocbuild/R/R/bin/R CMD build --keep-empty-dirs --no-resave-data epivizrChart StartedAt: 2025-11-14 01:40:49 -0000 (Fri, 14 Nov 2025) EndedAt: 2025-11-14 01:43:44 -0000 (Fri, 14 Nov 2025) EllapsedTime: 175.1 seconds RetCode: 0 Status: OK PackageFile: epivizrChart_1.32.0.tar.gz PackageFileSize: 5.427 MiB