Package: epivizrChart Version: 1.32.0 Command: /home/biocbuild/bbs-3.22-bioc/R/bin/R CMD check --install=check:epivizrChart.install-out.txt --library=/home/biocbuild/bbs-3.22-bioc/R/site-library --timings epivizrChart_1.32.0.tar.gz StartedAt: 2025-11-11 23:32:16 -0500 (Tue, 11 Nov 2025) EndedAt: 2025-11-11 23:40:20 -0500 (Tue, 11 Nov 2025) EllapsedTime: 484.5 seconds RetCode: 0 Status: OK CheckDir: epivizrChart.Rcheck Warnings: 0