Package: epivizrChart Version: 1.30.0 Command: /home/biocbuild/bbs-3.21-bioc/R/bin/R CMD INSTALL epivizrChart StartedAt: 2025-10-01 15:45:44 -0400 (Wed, 01 Oct 2025) EndedAt: 2025-10-01 15:46:31 -0400 (Wed, 01 Oct 2025) EllapsedTime: 46.6 seconds RetCode: 0 Status: OK