Package: epivizrChart Version: 1.30.0 Command: /home/biocbuild/bbs-3.21-bioc/R/bin/R CMD build --keep-empty-dirs --no-resave-data epivizrChart StartedAt: 2025-10-01 17:28:27 -0400 (Wed, 01 Oct 2025) EndedAt: 2025-10-01 17:30:14 -0400 (Wed, 01 Oct 2025) EllapsedTime: 107.2 seconds RetCode: 0 Status: OK PackageFile: epivizrChart_1.30.0.tar.gz PackageFileSize: 5.303 MiB