Package: epivizrChart Version: 1.30.0 Command: /Library/Frameworks/R.framework/Resources/bin/R CMD INSTALL epivizrChart StartedAt: 2025-10-02 17:27:20 -0400 (Thu, 02 Oct 2025) EndedAt: 2025-10-02 17:28:15 -0400 (Thu, 02 Oct 2025) EllapsedTime: 54.8 seconds RetCode: 0 Status: OK