Package: epivizrChart Version: 1.30.0 Command: rm -rf epivizrChart.buildbin-libdir && mkdir epivizrChart.buildbin-libdir && /Users/biocbuild/BBS/utils/build-universal.sh epivizrChart_1.30.0.tar.gz /Library/Frameworks/R.framework/Resources/bin/R epivizrChart.buildbin-libdir StartedAt: 2025-10-04 17:55:19 -0400 (Sat, 04 Oct 2025) EndedAt: 2025-10-04 17:56:21 -0400 (Sat, 04 Oct 2025) EllapsedTime: 62.4 seconds RetCode: 0 Status: OK PackageFile: epivizrChart_1.30.0.tgz PackageFileSize: 6.257 MiB