Package: epivizr Version: 2.40.0 Command: /home/biocbuild/bbs-3.22-bioc/R/bin/R CMD check --install=check:epivizr.install-out.txt --library=/home/biocbuild/bbs-3.22-bioc/R/site-library --timings epivizr_2.40.0.tar.gz StartedAt: 2025-11-21 00:12:10 -0500 (Fri, 21 Nov 2025) EndedAt: 2025-11-21 00:18:31 -0500 (Fri, 21 Nov 2025) EllapsedTime: 381.5 seconds RetCode: 0 Status: OK CheckDir: epivizr.Rcheck Warnings: 0