Package: epivizr Version: 2.40.0 Command: /home/biocbuild/bbs-3.22-bioc/R/bin/R CMD build --keep-empty-dirs --no-resave-data --md5 epivizr StartedAt: 2025-11-11 17:36:59 -0500 (Tue, 11 Nov 2025) EndedAt: 2025-11-11 17:38:06 -0500 (Tue, 11 Nov 2025) EllapsedTime: 67.0 seconds RetCode: 0 Status: OK PackageFile: epivizr_2.40.0.tar.gz PackageFileSize: 1.182 MiB