Package: epistasisGA Version: 1.12.0 Command: /home/biocbuild/bbs-3.22-bioc/R/bin/R CMD build --keep-empty-dirs --no-resave-data --md5 epistasisGA StartedAt: 2025-11-11 17:36:49 -0500 (Tue, 11 Nov 2025) EndedAt: 2025-11-11 17:40:12 -0500 (Tue, 11 Nov 2025) EllapsedTime: 203.1 seconds RetCode: 0 Status: OK PackageFile: epistasisGA_1.12.0.tar.gz PackageFileSize: 2.034 MiB