Package: epistasisGA Version: 1.12.0 Command: /Library/Frameworks/R.framework/Resources/bin/R CMD INSTALL epistasisGA StartedAt: 2025-11-03 15:18:18 -0500 (Mon, 03 Nov 2025) EndedAt: 2025-11-03 15:18:54 -0500 (Mon, 03 Nov 2025) EllapsedTime: 36.5 seconds RetCode: 0 Status: OK