Package: epistasisGA Version: 1.12.0 Command: /Library/Frameworks/R.framework/Resources/bin/R CMD build --keep-empty-dirs --no-resave-data epistasisGA StartedAt: 2025-11-03 16:58:10 -0500 (Mon, 03 Nov 2025) EndedAt: 2025-11-03 17:01:30 -0500 (Mon, 03 Nov 2025) EllapsedTime: 200.0 seconds RetCode: 0 Status: OK PackageFile: epistasisGA_1.12.0.tar.gz PackageFileSize: 2.062 MiB