Package: epistasisGA Version: 1.12.0 Command: rm -rf epistasisGA.buildbin-libdir && mkdir epistasisGA.buildbin-libdir && /Users/biocbuild/BBS/utils/build-universal.sh epistasisGA_1.12.0.tar.gz /Library/Frameworks/R.framework/Resources/bin/R epistasisGA.buildbin-libdir StartedAt: 2025-11-04 01:39:11 -0500 (Tue, 04 Nov 2025) EndedAt: 2025-11-04 01:40:12 -0500 (Tue, 04 Nov 2025) EllapsedTime: 60.6 seconds RetCode: 0 Status: OK PackageFile: epistasisGA_1.12.0.tgz PackageFileSize: 2.419 MiB