Package: epistasisGA Version: 1.10.0 Command: /home/biocbuild/R/R/bin/R CMD build --keep-empty-dirs --no-resave-data epistasisGA StartedAt: 2025-10-14 00:40:38 -0000 (Tue, 14 Oct 2025) EndedAt: 2025-10-14 00:45:00 -0000 (Tue, 14 Oct 2025) EllapsedTime: 262.1 seconds RetCode: 0 Status: OK PackageFile: epistasisGA_1.10.0.tar.gz PackageFileSize: 2.169 MiB