Package: epistack Version: 1.16.0 Command: /home/biocbuild/bbs-3.22-bioc/R/bin/R CMD build --keep-empty-dirs --no-resave-data --md5 epistack StartedAt: 2025-11-11 17:36:42 -0500 (Tue, 11 Nov 2025) EndedAt: 2025-11-11 17:38:09 -0500 (Tue, 11 Nov 2025) EllapsedTime: 87.0 seconds RetCode: 0 Status: OK PackageFile: epistack_1.16.0.tar.gz PackageFileSize: 3.719 MiB