Package: epistack Version: 1.16.0 Command: /Library/Frameworks/R.framework/Resources/bin/R CMD INSTALL epistack StartedAt: 2025-11-03 15:27:43 -0500 (Mon, 03 Nov 2025) EndedAt: 2025-11-03 15:28:11 -0500 (Mon, 03 Nov 2025) EllapsedTime: 28.0 seconds RetCode: 0 Status: OK