Package: epistack Version: 1.16.0 Command: rm -rf epistack.buildbin-libdir && mkdir epistack.buildbin-libdir && /Users/biocbuild/BBS/utils/build-universal.sh epistack_1.16.0.tar.gz /Library/Frameworks/R.framework/Resources/bin/R epistack.buildbin-libdir StartedAt: 2025-11-04 01:39:11 -0500 (Tue, 04 Nov 2025) EndedAt: 2025-11-04 01:39:46 -0500 (Tue, 04 Nov 2025) EllapsedTime: 34.4 seconds RetCode: 0 Status: OK PackageFile: epistack_1.16.0.tgz PackageFileSize: 2.127 MiB