Package: epistack Version: 1.14.0 Command: /home/biocbuild/R/R/bin/R CMD INSTALL epistack StartedAt: 2025-10-13 20:34:36 -0000 (Mon, 13 Oct 2025) EndedAt: 2025-10-13 20:35:05 -0000 (Mon, 13 Oct 2025) EllapsedTime: 29.1 seconds RetCode: 0 Status: OK