Package: epistack Version: 1.14.0 Command: /home/biocbuild/R/R/bin/R CMD build --keep-empty-dirs --no-resave-data epistack StartedAt: 2025-10-14 00:40:31 -0000 (Tue, 14 Oct 2025) EndedAt: 2025-10-14 00:43:38 -0000 (Tue, 14 Oct 2025) EllapsedTime: 187.0 seconds RetCode: 0 Status: OK PackageFile: epistack_1.14.0.tar.gz PackageFileSize: 3.73 MiB