Package: epistack Version: 1.16.0 Command: /Library/Frameworks/R.framework/Resources/bin/R CMD build --keep-empty-dirs --no-resave-data epistack StartedAt: 2025-11-06 16:20:31 -0500 (Thu, 06 Nov 2025) EndedAt: 2025-11-06 16:21:09 -0500 (Thu, 06 Nov 2025) EllapsedTime: 37.3 seconds RetCode: 0 Status: OK PackageFile: epistack_1.16.0.tar.gz PackageFileSize: 3.905 MiB