Package: epistack Version: 1.16.0 Command: rm -rf epistack.buildbin-libdir && mkdir epistack.buildbin-libdir && /Users/biocbuild/BBS/utils/build-universal.sh epistack_1.16.0.tar.gz /Library/Frameworks/R.framework/Resources/bin/R epistack.buildbin-libdir StartedAt: 2025-11-06 23:04:15 -0500 (Thu, 06 Nov 2025) EndedAt: 2025-11-06 23:04:25 -0500 (Thu, 06 Nov 2025) EllapsedTime: 10.2 seconds RetCode: 0 Status: OK PackageFile: epistack_1.16.0.tgz PackageFileSize: 2.129 MiB