Package: epiregulon Version: 2.0.1 Command: /home/biocbuild/bbs-3.22-bioc/R/bin/R CMD INSTALL epiregulon StartedAt: 2025-11-11 16:00:41 -0500 (Tue, 11 Nov 2025) EndedAt: 2025-11-11 16:01:19 -0500 (Tue, 11 Nov 2025) EllapsedTime: 37.5 seconds RetCode: 0 Status: OK