Package: epiregulon Version: 2.0.1 Command: /home/biocbuild/bbs-3.22-bioc/R/bin/R CMD build --keep-empty-dirs --no-resave-data --md5 epiregulon StartedAt: 2025-11-11 17:36:31 -0500 (Tue, 11 Nov 2025) EndedAt: 2025-11-11 17:45:19 -0500 (Tue, 11 Nov 2025) EllapsedTime: 528.5 seconds RetCode: 0 Status: OK PackageFile: epiregulon_2.0.1.tar.gz PackageFileSize: 1.207 MiB