Package: epiregulon Version: 2.0.0 Command: /Library/Frameworks/R.framework/Resources/bin/R CMD INSTALL epiregulon StartedAt: 2025-10-31 15:33:15 -0400 (Fri, 31 Oct 2025) EndedAt: 2025-10-31 15:33:28 -0400 (Fri, 31 Oct 2025) EllapsedTime: 13.5 seconds RetCode: 0 Status: OK