Package: epiregulon Version: 2.0.0 Command: /Library/Frameworks/R.framework/Resources/bin/R CMD build --keep-empty-dirs --no-resave-data epiregulon StartedAt: 2025-11-02 16:20:12 -0500 (Sun, 02 Nov 2025) EndedAt: 2025-11-02 16:24:11 -0500 (Sun, 02 Nov 2025) EllapsedTime: 239.5 seconds RetCode: 0 Status: OK PackageFile: epiregulon_2.0.0.tar.gz PackageFileSize: 1.303 MiB