Package: epiregulon.extra Version: 1.6.0 Command: /home/biocbuild/bbs-3.22-bioc/R/bin/R CMD INSTALL epiregulon.extra StartedAt: 2025-11-11 16:00:29 -0500 (Tue, 11 Nov 2025) EndedAt: 2025-11-11 16:00:58 -0500 (Tue, 11 Nov 2025) EllapsedTime: 28.4 seconds RetCode: 0 Status: OK