Package: epiregulon.extra Version: 1.6.0 Command: /Library/Frameworks/R.framework/Resources/bin/R CMD INSTALL epiregulon.extra StartedAt: 2025-11-10 15:29:14 -0500 (Mon, 10 Nov 2025) EndedAt: 2025-11-10 15:29:26 -0500 (Mon, 10 Nov 2025) EllapsedTime: 11.3 seconds RetCode: 0 Status: OK