Package: epiregulon.extra Version: 1.6.0 Command: /Library/Frameworks/R.framework/Resources/bin/R CMD build --keep-empty-dirs --no-resave-data epiregulon.extra StartedAt: 2025-11-10 16:20:21 -0500 (Mon, 10 Nov 2025) EndedAt: 2025-11-10 16:22:34 -0500 (Mon, 10 Nov 2025) EllapsedTime: 132.3 seconds RetCode: 0 Status: OK PackageFile: epiregulon.extra_1.6.0.tar.gz PackageFileSize: 3.335 MiB