Package: epiregulon.extra Version: 1.6.0 Command: rm -rf epiregulon.extra.buildbin-libdir && mkdir epiregulon.extra.buildbin-libdir && /Users/biocbuild/BBS/utils/build-universal.sh epiregulon.extra_1.6.0.tar.gz /Library/Frameworks/R.framework/Resources/bin/R epiregulon.extra.buildbin-libdir StartedAt: 2025-11-10 23:19:22 -0500 (Mon, 10 Nov 2025) EndedAt: 2025-11-10 23:19:35 -0500 (Mon, 10 Nov 2025) EllapsedTime: 12.2 seconds RetCode: 0 Status: OK PackageFile: epiregulon.extra_1.6.0.tgz PackageFileSize: 3.406 MiB