Package: epimutacions Version: 1.14.0 Command: /home/biocbuild/bbs-3.22-bioc/R/bin/R CMD build --keep-empty-dirs --no-resave-data --md5 epimutacions StartedAt: 2025-11-11 17:36:01 -0500 (Tue, 11 Nov 2025) EndedAt: 2025-11-11 17:39:04 -0500 (Tue, 11 Nov 2025) EllapsedTime: 183.1 seconds RetCode: 0 Status: OK PackageFile: epimutacions_1.14.0.tar.gz PackageFileSize: 1.728 MiB