Package: epimutacions Version: 1.14.0 Command: /Library/Frameworks/R.framework/Resources/bin/R CMD INSTALL epimutacions StartedAt: 2025-11-03 15:55:48 -0500 (Mon, 03 Nov 2025) EndedAt: 2025-11-03 15:56:48 -0500 (Mon, 03 Nov 2025) EllapsedTime: 59.6 seconds RetCode: 0 Status: OK