Package: epimutacions Version: 1.12.0 Command: /home/biocbuild/R/R/bin/R CMD INSTALL epimutacions StartedAt: 2025-10-13 21:19:58 -0000 (Mon, 13 Oct 2025) EndedAt: 2025-10-13 21:21:08 -0000 (Mon, 13 Oct 2025) EllapsedTime: 69.5 seconds RetCode: 0 Status: OK