Package: epimutacions Version: 1.12.0 Command: /home/biocbuild/R/R/bin/R CMD build --keep-empty-dirs --no-resave-data epimutacions StartedAt: 2025-10-14 00:39:38 -0000 (Tue, 14 Oct 2025) EndedAt: 2025-10-14 00:44:52 -0000 (Tue, 14 Oct 2025) EllapsedTime: 314.1 seconds RetCode: 0 Status: OK PackageFile: epimutacions_1.12.0.tar.gz PackageFileSize: 1.778 MiB