Package: epimutacions Version: 1.14.0 Command: /Library/Frameworks/R.framework/Resources/bin/R CMD INSTALL epimutacions StartedAt: 2025-11-20 19:28:08 -0500 (Thu, 20 Nov 2025) EndedAt: 2025-11-20 19:29:07 -0500 (Thu, 20 Nov 2025) EllapsedTime: 58.9 seconds RetCode: 0 Status: OK