Package: epimutacions Version: 1.14.0 Command: /Library/Frameworks/R.framework/Resources/bin/R CMD build --keep-empty-dirs --no-resave-data epimutacions StartedAt: 2025-11-21 00:45:21 -0500 (Fri, 21 Nov 2025) EndedAt: 2025-11-21 00:49:33 -0500 (Fri, 21 Nov 2025) EllapsedTime: 251.6 seconds RetCode: 0 Status: OK PackageFile: epimutacions_1.14.0.tar.gz PackageFileSize: 1.737 MiB