Package: epimutacions Version: 1.14.0 Command: rm -rf epimutacions.buildbin-libdir && mkdir epimutacions.buildbin-libdir && /Users/biocbuild/BBS/utils/build-universal.sh epimutacions_1.14.0.tar.gz /Library/Frameworks/R.framework/Resources/bin/R epimutacions.buildbin-libdir StartedAt: 2025-11-23 08:31:45 -0500 (Sun, 23 Nov 2025) EndedAt: 2025-11-23 08:33:20 -0500 (Sun, 23 Nov 2025) EllapsedTime: 95.1 seconds RetCode: 0 Status: OK PackageFile: epimutacions_1.14.0.tgz PackageFileSize: 1.656 MiB