Package: epigraHMM Version: 1.18.0 Command: /home/biocbuild/bbs-3.22-bioc/R/bin/R CMD INSTALL epigraHMM StartedAt: 2025-11-13 15:33:16 -0500 (Thu, 13 Nov 2025) EndedAt: 2025-11-13 15:35:20 -0500 (Thu, 13 Nov 2025) EllapsedTime: 124.0 seconds RetCode: 0 Status: OK