Package: epigraHMM Version: 1.18.0 Command: /home/biocbuild/bbs-3.22-bioc/R/bin/R CMD check --install=check:epigraHMM.install-out.txt --library=/home/biocbuild/bbs-3.22-bioc/R/site-library --timings epigraHMM_1.18.0.tar.gz StartedAt: 2025-11-21 00:09:00 -0500 (Fri, 21 Nov 2025) EndedAt: 2025-11-21 00:23:52 -0500 (Fri, 21 Nov 2025) EllapsedTime: 891.9 seconds RetCode: 0 Status: WARNINGS CheckDir: epigraHMM.Rcheck Warnings: 1