Package: epigraHMM Version: 1.18.0 Command: /home/biocbuild/bbs-3.22-bioc/R/bin/R CMD build --keep-empty-dirs --no-resave-data --md5 epigraHMM StartedAt: 2025-11-13 17:34:20 -0500 (Thu, 13 Nov 2025) EndedAt: 2025-11-13 17:43:28 -0500 (Thu, 13 Nov 2025) EllapsedTime: 547.5 seconds RetCode: 0 Status: OK PackageFile: epigraHMM_1.18.0.tar.gz PackageFileSize: 726.7 KiB