Package: epigraHMM Version: 1.16.1 Command: /home/biocbuild/R/R/bin/R CMD INSTALL epigraHMM StartedAt: 2025-10-13 20:46:15 -0000 (Mon, 13 Oct 2025) EndedAt: 2025-10-13 20:49:23 -0000 (Mon, 13 Oct 2025) EllapsedTime: 187.9 seconds RetCode: 0 Status: OK