Package: epigraHMM Version: 1.16.1 Command: /home/biocbuild/R/R/bin/R CMD build --keep-empty-dirs --no-resave-data epigraHMM StartedAt: 2025-10-14 00:39:16 -0000 (Tue, 14 Oct 2025) EndedAt: 2025-10-14 00:58:49 -0000 (Tue, 14 Oct 2025) EllapsedTime: 1172.4 seconds RetCode: 0 Status: OK PackageFile: epigraHMM_1.16.1.tar.gz PackageFileSize: 764.8 KiB