Package: epigraHMM Version: 1.18.0 Command: /Library/Frameworks/R.framework/Resources/bin/R CMD INSTALL epigraHMM StartedAt: 2025-11-02 15:17:52 -0500 (Sun, 02 Nov 2025) EndedAt: 2025-11-02 15:18:29 -0500 (Sun, 02 Nov 2025) EllapsedTime: 37.3 seconds RetCode: 0 Status: OK