Package: epigraHMM Version: 1.18.0 Command: /Library/Frameworks/R.framework/Resources/bin/R CMD build --keep-empty-dirs --no-resave-data epigraHMM StartedAt: 2025-11-02 16:19:56 -0500 (Sun, 02 Nov 2025) EndedAt: 2025-11-02 16:24:13 -0500 (Sun, 02 Nov 2025) EllapsedTime: 256.7 seconds RetCode: 0 Status: OK PackageFile: epigraHMM_1.18.0.tar.gz PackageFileSize: 733.7 KiB