Package: epigenomix Version: 1.48.1 Command: /home/biocbuild/R/R/bin/R CMD INSTALL epigenomix StartedAt: 2025-10-13 20:51:51 -0000 (Mon, 13 Oct 2025) EndedAt: 2025-10-13 20:52:47 -0000 (Mon, 13 Oct 2025) EllapsedTime: 56.0 seconds RetCode: 0 Status: OK