Package: epigenomix Version: 1.48.1 Command: /home/biocbuild/R/R/bin/R CMD build --keep-empty-dirs --no-resave-data epigenomix StartedAt: 2025-10-14 00:39:06 -0000 (Tue, 14 Oct 2025) EndedAt: 2025-10-14 00:41:07 -0000 (Tue, 14 Oct 2025) EllapsedTime: 121.0 seconds RetCode: 0 Status: OK PackageFile: epigenomix_1.48.1.tar.gz PackageFileSize: 422.7 KiB