Package: epigenomix Version: 1.50.0 Command: /Library/Frameworks/R.framework/Resources/bin/R CMD INSTALL epigenomix StartedAt: 2025-11-10 15:19:45 -0500 (Mon, 10 Nov 2025) EndedAt: 2025-11-10 15:20:01 -0500 (Mon, 10 Nov 2025) EllapsedTime: 16.0 seconds RetCode: 0 Status: OK